Workbook

Sheet Sprzedaż
A1: Ewidencja sprzedaży i limit działalności nierejestrowanej
A2: Jeden wiersz = jedna sprzedaż. Wypełniasz kolumny A–E, szare kolumny liczą się same. Zwrot wpisz jako kwotę ujemną. Jak znaleźć kurs NBP: zakładka „Instrukcja”.
A3: Eksperyment NobleCode, prowadzony z udziałem AI · Nie stanowi doradztwa podatkowego · kontakt@noblecode.pl
A4: Data | B4: Opis | C4: Kwota | D4: Waluta | E4: Kurs NBP | F4: Kwota w PLN | G4: Suma kwartału (narastająco) | H4: % limitu | I4: Ostrzeżenie
F5: =IF(C5="","",IF(OR(D5="",D5="PLN"),ROUND(C5,2),IF(E5="","brak kursu",ROUND(C5*E5,2)))) | G5: =IF(OR(A5="",NOT(ISNUMBER(F5))),"",IF(NOT(ISNUMBER(A5)),"sprawdź datę",SUMIFS($F$5:$F$1004,$A$5:$A$1004,">="&DATE(YEAR(A5),INT((MONTH(A5)-1)/3)*3+1,1),$A$5:$A$1004,"<="&A5))) | H5: =IF(NOT(ISNUMBER(G5)),"",IFERROR(G5/VLOOKUP(YEAR(A5),Limity!$A$5:$C$14,3,FALSE),"brak limitu")) | I5: =IF(ISNUMBER(H5),IF(H5>1,"Limit przekroczony",IF(H5>=1,"Limit wykorzystany (100%)",IF(H5>=0.95,"Co najmniej 95% limitu",IF(H5>=0.85,"Co najmniej 85% limitu",IF(H5>=0.7,"Co najmniej 70% limitu","W limicie"))))),IF(F5="brak kursu","Wpisz kurs NBP w kolumnie E",IF(G5="sprawdź datę","Wpisz datę jako dzień, np. 2026-10-21",IF(H5="brak limitu","Wpisz płacę minimalną na ten rok w zakładce Limity",""))))
F6: =IF(C6="","",IF(OR(D6="",D6="PLN"),ROUND(C6,2),IF(E6="","brak kursu",ROUND(C6*E6,2)))) | G6: =IF(OR(A6="",NOT(ISNUMBER(F6))),"",IF(NOT(ISNUMBER(A6)),"sprawdź datę",SUMIFS($F$5:$F$1004,$A$5:$A$1004,">="&DATE(YEAR(A6),INT((MONTH(A6)-1)/3)*3+1,1),$A$5:$A$1004,"<="&A6))) | H6: =IF(NOT(ISNUMBER(G6)),"",IFERROR(G6/VLOOKUP(YEAR(A6),Limity!$A$5:$C$14,3,FALSE),"brak limitu")) | I6: =IF(ISNUMBER(H6),IF(H6>1,"Limit przekroczony",IF(H6>=1,"Limit wykorzystany (100%)",IF(H6>=0.95,"Co najmniej 95% limitu",IF(H6>=0.85,"Co najmniej 85% limitu",IF(H6>=0.7,"Co najmniej 70% limitu","W limicie"))))),IF(F6="brak kursu","Wpisz kurs NBP w kolumnie E",IF(G6="sprawdź datę","Wpisz datę jako dzień, np. 2026-10-21",IF(H6="brak limitu","Wpisz płacę minimalną na ten rok w zakładce Limity",""))))
F7: =IF(C7="","",IF(OR(D7="",D7="PLN"),ROUND(C7,2),IF(E7="","brak kursu",ROUND(C7*E7,2)))) | G7: =IF(OR(A7="",NOT(ISNUMBER(F7))),"",IF(NOT(ISNUMBER(A7)),"sprawdź datę",SUMIFS($F$5:$F$1004,$A$5:$A$1004,">="&DATE(YEAR(A7),INT((MONTH(A7)-1)/3)*3+1,1),$A$5:$A$1004,"<="&A7))) | H7: =IF(NOT(ISNUMBER(G7)),"",IFERROR(G7/VLOOKUP(YEAR(A7),Limity!$A$5:$C$14,3,FALSE),"brak limitu")) | I7: =IF(ISNUMBER(H7),IF(H7>1,"Limit przekroczony",IF(H7>=1,"Limit wykorzystany (100%)",IF(H7>=0.95,"Co najmniej 95% limitu",IF(H7>=0.85,"Co najmniej 85% limitu",IF(H7>=0.7,"Co najmniej 70% limitu","W limicie"))))),IF(F7="brak kursu","Wpisz kurs NBP w kolumnie E",IF(G7="sprawdź datę","Wpisz datę jako dzień, np. 2026-10-21",IF(H7="brak limitu","Wpisz płacę minimalną na ten rok w zakładce Limity",""))))
F8: =IF(C8="","",IF(OR(D8="",D8="PLN"),ROUND(C8,2),IF(E8="","brak kursu",ROUND(C8*E8,2)))) | G8: =IF(OR(A8="",NOT(ISNUMBER(F8))),"",IF(NOT(ISNUMBER(A8)),"sprawdź datę",SUMIFS($F$5:$F$1004,$A$5:$A$1004,">="&DATE(YEAR(A8),INT((MONTH(A8)-1)/3)*3+1,1),$A$5:$A$1004,"<="&A8))) | H8: =IF(NOT(ISNUMBER(G8)),"",IFERROR(G8/VLOOKUP(YEAR(A8),Limity!$A$5:$C$14,3,FALSE),"brak limitu")) | I8: =IF(ISNUMBER(H8),IF(H8>1,"Limit przekroczony",IF(H8>=1,"Limit wykorzystany (100%)",IF(H8>=0.95,"Co najmniej 95% limitu",IF(H8>=0.85,"Co najmniej 85% limitu",IF(H8>=0.7,"Co najmniej 70% limitu","W limicie"))))),IF(F8="brak kursu","Wpisz kurs NBP w kolumnie E",IF(G8="sprawdź datę","Wpisz datę jako dzień, np. 2026-10-21",IF(H8="brak limitu","Wpisz płacę minimalną na ten rok w zakładce Limity",""))))
F9: =IF(C9="","",IF(OR(D9="",D9="PLN"),ROUND(C9,2),IF(E9="","brak kursu",ROUND(C9*E9,2)))) | G9: =IF(OR(A9="",NOT(ISNUMBER(F9))),"",IF(NOT(ISNUMBER(A9)),"sprawdź datę",SUMIFS($F$5:$F$1004,$A$5:$A$1004,">="&DATE(YEAR(A9),INT((MONTH(A9)-1)/3)*3+1,1),$A$5:$A$1004,"<="&A9))) | H9: =IF(NOT(ISNUMBER(G9)),"",IFERROR(G9/VLOOKUP(YEAR(A9),Limity!$A$5:$C$14,3,FALSE),"brak limitu")) | I9: =IF(ISNUMBER(H9),IF(H9>1,"Limit przekroczony",IF(H9>=1,"Limit wykorzystany (100%)",IF(H9>=0.95,"Co najmniej 95% limitu",IF(H9>=0.85,"Co najmniej 85% limitu",IF(H9>=0.7,"Co najmniej 70% limitu","W limicie"))))),IF(F9="brak kursu","Wpisz kurs NBP w kolumnie E",IF(G9="sprawdź datę","Wpisz datę jako dzień, np. 2026-10-21",IF(H9="brak limitu","Wpisz płacę minimalną na ten rok w zakładce Limity",""))))
F10: =IF(C10="","",IF(OR(D10="",D10="PLN"),ROUND(C10,2),IF(E10="","brak kursu",ROUND(C10*E10,2)))) | G10: =IF(OR(A10="",NOT(ISNUMBER(F10))),"",IF(NOT(ISNUMBER(A10)),"sprawdź datę",SUMIFS($F$5:$F$1004,$A$5:$A$1004,">="&DATE(YEAR(A10),INT((MONTH(A10)-1)/3)*3+1,1),$A$5:$A$1004,"<="&A10))) | H10: =IF(NOT(ISNUMBER(G10)),"",IFERROR(G10/VLOOKUP(YEAR(A10),Limity!$A$5:$C$14,3,FALSE),"brak limitu")) | I10: =IF(ISNUMBER(H10),IF(H10>1,"Limit przekroczony",IF(H10>=1,"Limit wykorzystany (100%)",IF(H10>=0.95,"Co najmniej 95% limitu",IF(H10>=0.85,"Co najmniej 85% limitu",IF(H10>=0.7,"Co najmniej 70% limitu","W limicie"))))),IF(F10="brak kursu","Wpisz kurs NBP w kolumnie E",IF(G10="sprawdź datę","Wpisz datę jako dzień, np. 2026-10-21",IF(H10="brak limitu","Wpisz płacę minimalną na ten rok w zakładce Limity",""))))
F11: =IF(C11="","",IF(OR(D11="",D11="PLN"),ROUND(C11,2),IF(E11="","brak kursu",ROUND(C11*E11,2)))) | G11: =IF(OR(A11="",NOT(ISNUMBER(F11))),"",IF(NOT(ISNUMBER(A11)),"sprawdź datę",SUMIFS($F$5:$F$1004,$A$5:$A$1004,">="&DATE(YEAR(A11),INT((MONTH(A11)-1)/3)*3+1,1),$A$5:$A$1004,"<="&A11))) | H11: =IF(NOT(ISNUMBER(G11)),"",IFERROR(G11/VLOOKUP(YEAR(A11),Limity!$A$5:$C$14,3,FALSE),"brak limitu")) | I11: =IF(ISNUMBER(H11),IF(H11>1,"Limit przekroczony",IF(H11>=1,"Limit wykorzystany (100%)",IF(H11>=0.95,"Co najmniej 95% limitu",IF(H11>=0.85,"Co najmniej 85% limitu",IF(H11>=0.7,"Co najmniej 70% limitu","W limicie"))))),IF(F11="brak kursu","Wpisz kurs NBP w kolumnie E",IF(G11="sprawdź datę","Wpisz datę jako dzień, np. 2026-10-21",IF(H11="brak limitu","Wpisz płacę minimalną na ten rok w zakładce Limity",""))))
F12: =IF(C12="","",IF(OR(D12="",D12="PLN"),ROUND(C12,2),IF(E12="","brak kursu",ROUND(C12*E12,2)))) | G12: =IF(OR(A12="",NOT(ISNUMBER(F12))),"",IF(NOT(ISNUMBER(A12)),"sprawdź datę",SUMIFS($F$5:$F$1004,$A$5:$A$1004,">="&DATE(YEAR(A12),INT((MONTH(A12)-1)/3)*3+1,1),$A$5:$A$1004,"<="&A12))) | H12: =IF(NOT(ISNUMBER(G12)),"",IFERROR(G12/VLOOKUP(YEAR(A12),Limity!$A$5:$C$14,3,FALSE),"brak limitu")) | I12: =IF(ISNUMBER(H12),IF(H12>1,"Limit przekroczony",IF(H12>=1,"Limit wykorzystany (100%)",IF(H12>=0.95,"Co najmniej 95% limitu",IF(H12>=0.85,"Co najmniej 85% limitu",IF(H12>=0.7,"Co najmniej 70% limitu","W limicie"))))),IF(F12="brak kursu","Wpisz kurs NBP w kolumnie E",IF(G12="sprawdź datę","Wpisz datę jako dzień, np. 2026-10-21",IF(H12="brak limitu","Wpisz płacę minimalną na ten rok w zakładce Limity",""))))
F13: =IF(C13="","",IF(OR(D13="",D13="PLN"),ROUND(C13,2),IF(E13="","brak kursu",ROUND(C13*E13,2)))) | G13: =IF(OR(A13="",NOT(ISNUMBER(F13))),"",IF(NOT(ISNUMBER(A13)),"sprawdź datę",SUMIFS($F$5:$F$1004,$A$5:$A$1004,">="&DATE(YEAR(A13),INT((MONTH(A13)-1)/3)*3+1,1),$A$5:$A$1004,"<="&A13))) | H13: =IF(NOT(ISNUMBER(G13)),"",IFERROR(G13/VLOOKUP(YEAR(A13),Limity!$A$5:$C$14,3,FALSE),"brak limitu")) | I13: =IF(ISNUMBER(H13),IF(H13>1,"Limit przekroczony",IF(H13>=1,"Limit wykorzystany (100%)",IF(H13>=0.95,"Co najmniej 95% limitu",IF(H13>=0.85,"Co najmniej 85% limitu",IF(H13>=0.7,"Co najmniej 70% limitu","W limicie"))))),IF(F13="brak kursu","Wpisz kurs NBP w kolumnie E",IF(G13="sprawdź datę","Wpisz datę jako dzień, np. 2026-10-21",IF(H13="brak limitu","Wpisz płacę minimalną na ten rok w zakładce Limity",""))))
F14: =IF(C14="","",IF(OR(D14="",D14="PLN"),ROUND(C14,2),IF(E14="","brak kursu",ROUND(C14*E14,2)))) | G14: =IF(OR(A14="",NOT(ISNUMBER(F14))),"",IF(NOT(ISNUMBER(A14)),"sprawdź datę",SUMIFS($F$5:$F$1004,$A$5:$A$1004,">="&DATE(YEAR(A14),INT((MONTH(A14)-1)/3)*3+1,1),$A$5:$A$1004,"<="&A14))) | H14: =IF(NOT(ISNUMBER(G14)),"",IFERROR(G14/VLOOKUP(YEAR(A14),Limity!$A$5:$C$14,3,FALSE),"brak limitu")) | I14: =IF(ISNUMBER(H14),IF(H14>1,"Limit przekroczony",IF(H14>=1,"Limit wykorzystany (100%)",IF(H14>=0.95,"Co najmniej 95% limitu",IF(H14>=0.85,"Co najmniej 85% limitu",IF(H14>=0.7,"Co najmniej 70% limitu","W limicie"))))),IF(F14="brak kursu","Wpisz kurs NBP w kolumnie E",IF(G14="sprawdź datę","Wpisz datę jako dzień, np. 2026-10-21",IF(H14="brak limitu","Wpisz płacę minimalną na ten rok w zakładce Limity",""))))
F15: =IF(C15="","",IF(OR(D15="",D15="PLN"),ROUND(C15,2),IF(E15="","brak kursu",ROUND(C15*E15,2)))) | G15: =IF(OR(A15="",NOT(ISNUMBER(F15))),"",IF(NOT(ISNUMBER(A15)),"sprawdź datę",SUMIFS($F$5:$F$1004,$A$5:$A$1004,">="&DATE(YEAR(A15),INT((MONTH(A15)-1)/3)*3+1,1),$A$5:$A$1004,"<="&A15))) | H15: =IF(NOT(ISNUMBER(G15)),"",IFERROR(G15/VLOOKUP(YEAR(A15),Limity!$A$5:$C$14,3,FALSE),"brak limitu")) | I15: =IF(ISNUMBER(H15),IF(H15>1,"Limit przekroczony",IF(H15>=1,"Limit wykorzystany (100%)",IF(H15>=0.95,"Co najmniej 95% limitu",IF(H15>=0.85,"Co najmniej 85% limitu",IF(H15>=0.7,"Co najmniej 70% limitu","W limicie"))))),IF(F15="brak kursu","Wpisz kurs NBP w kolumnie E",IF(G15="sprawdź datę","Wpisz datę jako dzień, np. 2026-10-21",IF(H15="brak limitu","Wpisz płacę minimalną na ten rok w zakładce Limity",""))))
F16: =IF(C16="","",IF(OR(D16="",D16="PLN"),ROUND(C16,2),IF(E16="","brak kursu",ROUND(C16*E16,2)))) | G16: =IF(OR(A16="",NOT(ISNUMBER(F16))),"",IF(NOT(ISNUMBER(A16)),"sprawdź datę",SUMIFS($F$5:$F$1004,$A$5:$A$1004,">="&DATE(YEAR(A16),INT((MONTH(A16)-1)/3)*3+1,1),$A$5:$A$1004,"<="&A16))) | H16: =IF(NOT(ISNUMBER(G16)),"",IFERROR(G16/VLOOKUP(YEAR(A16),Limity!$A$5:$C$14,3,FALSE),"brak limitu")) | I16: =IF(ISNUMBER(H16),IF(H16>1,"Limit przekroczony",IF(H16>=1,"Limit wykorzystany (100%)",IF(H16>=0.95,"Co najmniej 95% limitu",IF(H16>=0.85,"Co najmniej 85% limitu",IF(H16>=0.7,"Co najmniej 70% limitu","W limicie"))))),IF(F16="brak kursu","Wpisz kurs NBP w kolumnie E",IF(G16="sprawdź datę","Wpisz datę jako dzień, np. 2026-10-21",IF(H16="brak limitu","Wpisz płacę minimalną na ten rok w zakładce Limity",""))))
... F1004: =IF(C1004="","",IF(OR(D1004="",D1004="PLN"),ROUND(C1004,2),IF(E1004="","brak kursu",ROUND(C1004*E1004,2)))) | G1004: =IF(OR(A1004="",NOT(ISNUMBER(F1004))),"",IF(NOT(ISNUMBER(A1004)),"sprawdź datę",SUMIFS($F$5:$F$1004,$A$5:$A$1004,">="&DATE(YEAR(A1004),INT((MONTH(A1004)-1)/3)*3+1,1),$A$5:$A$1004,"<="&A1004))) | H1004: =IF(NOT(ISNUMBER(G1004)),"",IFERROR(G1004/VLOOKUP(YEAR(A1004),Limity!$A$5:$C$14,3,FALSE),"brak limitu")) | I1004: =IF(ISNUMBER(H1004),IF(H1004>1,"Limit przekroczony",IF(H1004>=1,"Limit wykorzystany (100%)",IF(H1004>=0.95,"Co najmniej 95% limitu",IF(H1004>=0.85,"Co najmniej 85% limitu",IF(H1004>=0.7,"Co najmniej 70% limitu","W limicie"))))),IF(F1004="brak kursu","Wpisz kurs NBP w kolumnie E",IF(G1004="sprawdź datę","Wpisz datę jako dzień, np. 2026-10-21",IF(H1004="brak limitu","Wpisz płacę minimalną na ten rok w zakładce Limity",""))))

Sheet Podsumowanie
A1: Podsumowanie kwartałów
A2: Liczy się samo z zakładki „Sprzedaż”. Kolory: 70%, 85%, 95% i 100% limitu.
A4: Rok | B4: Kwartał | C4: Od | D4: Do | E4: Przychód | F4: Limit na kwartał | G4: % limitu | H4: Zostało do limitu | I4: Ostrzeżenie
A5: 2026 | B5: I | C5: =DATE(A5,1,1) | D5: =EOMONTH(C5,2) | E5: =SUMIFS('Sprzedaż'!$F$5:$F$1004,'Sprzedaż'!$A$5:$A$1004,">="&C5,'Sprzedaż'!$A$5:$A$1004,"<="&D5) | F5: =IFERROR(VLOOKUP(A5,Limity!$A$5:$C$14,3,FALSE),"") | G5: =IF(ISNUMBER(F5),E5/F5,"") | H5: =IF(ISNUMBER(F5),F5-E5,"") | I5: =IF(ISNUMBER(G5),IF(G5>1,"Limit przekroczony",IF(G5>=1,"Limit wykorzystany (100%)",IF(G5>=0.95,"Co najmniej 95% limitu",IF(G5>=0.85,"Co najmniej 85% limitu",IF(G5>=0.7,"Co najmniej 70% limitu","W limicie"))))),"Wpisz płacę minimalną na ten rok w zakładce Limity")&IF(COUNTIFS('Sprzedaż'!$F$5:$F$1004,"brak kursu",'Sprzedaż'!$A$5:$A$1004,">="&C5,'Sprzedaż'!$A$5:$A$1004,"<="&D5)>0," · wierszy bez kursu NBP: "&COUNTIFS('Sprzedaż'!$F$5:$F$1004,"brak kursu",'Sprzedaż'!$A$5:$A$1004,">="&C5,'Sprzedaż'!$A$5:$A$1004,"<="&D5),"")
A6: 2026 | B6: II | C6: =DATE(A6,4,1) | D6: =EOMONTH(C6,2) | E6: =SUMIFS('Sprzedaż'!$F$5:$F$1004,'Sprzedaż'!$A$5:$A$1004,">="&C6,'Sprzedaż'!$A$5:$A$1004,"<="&D6) | F6: =IFERROR(VLOOKUP(A6,Limity!$A$5:$C$14,3,FALSE),"") | G6: =IF(ISNUMBER(F6),E6/F6,"") | H6: =IF(ISNUMBER(F6),F6-E6,"") | I6: =IF(ISNUMBER(G6),IF(G6>1,"Limit przekroczony",IF(G6>=1,"Limit wykorzystany (100%)",IF(G6>=0.95,"Co najmniej 95% limitu",IF(G6>=0.85,"Co najmniej 85% limitu",IF(G6>=0.7,"Co najmniej 70% limitu","W limicie"))))),"Wpisz płacę minimalną na ten rok w zakładce Limity")&IF(COUNTIFS('Sprzedaż'!$F$5:$F$1004,"brak kursu",'Sprzedaż'!$A$5:$A$1004,">="&C6,'Sprzedaż'!$A$5:$A$1004,"<="&D6)>0," · wierszy bez kursu NBP: "&COUNTIFS('Sprzedaż'!$F$5:$F$1004,"brak kursu",'Sprzedaż'!$A$5:$A$1004,">="&C6,'Sprzedaż'!$A$5:$A$1004,"<="&D6),"")
A7: 2026 | B7: III | C7: =DATE(A7,7,1) | D7: =EOMONTH(C7,2) | E7: =SUMIFS('Sprzedaż'!$F$5:$F$1004,'Sprzedaż'!$A$5:$A$1004,">="&C7,'Sprzedaż'!$A$5:$A$1004,"<="&D7) | F7: =IFERROR(VLOOKUP(A7,Limity!$A$5:$C$14,3,FALSE),"") | G7: =IF(ISNUMBER(F7),E7/F7,"") | H7: =IF(ISNUMBER(F7),F7-E7,"") | I7: =IF(ISNUMBER(G7),IF(G7>1,"Limit przekroczony",IF(G7>=1,"Limit wykorzystany (100%)",IF(G7>=0.95,"Co najmniej 95% limitu",IF(G7>=0.85,"Co najmniej 85% limitu",IF(G7>=0.7,"Co najmniej 70% limitu","W limicie"))))),"Wpisz płacę minimalną na ten rok w zakładce Limity")&IF(COUNTIFS('Sprzedaż'!$F$5:$F$1004,"brak kursu",'Sprzedaż'!$A$5:$A$1004,">="&C7,'Sprzedaż'!$A$5:$A$1004,"<="&D7)>0," · wierszy bez kursu NBP: "&COUNTIFS('Sprzedaż'!$F$5:$F$1004,"brak kursu",'Sprzedaż'!$A$5:$A$1004,">="&C7,'Sprzedaż'!$A$5:$A$1004,"<="&D7),"")
A8: 2026 | B8: IV | C8: =DATE(A8,10,1) | D8: =EOMONTH(C8,2) | E8: =SUMIFS('Sprzedaż'!$F$5:$F$1004,'Sprzedaż'!$A$5:$A$1004,">="&C8,'Sprzedaż'!$A$5:$A$1004,"<="&D8) | F8: =IFERROR(VLOOKUP(A8,Limity!$A$5:$C$14,3,FALSE),"") | G8: =IF(ISNUMBER(F8),E8/F8,"") | H8: =IF(ISNUMBER(F8),F8-E8,"") | I8: =IF(ISNUMBER(G8),IF(G8>1,"Limit przekroczony",IF(G8>=1,"Limit wykorzystany (100%)",IF(G8>=0.95,"Co najmniej 95% limitu",IF(G8>=0.85,"Co najmniej 85% limitu",IF(G8>=0.7,"Co najmniej 70% limitu","W limicie"))))),"Wpisz płacę minimalną na ten rok w zakładce Limity")&IF(COUNTIFS('Sprzedaż'!$F$5:$F$1004,"brak kursu",'Sprzedaż'!$A$5:$A$1004,">="&C8,'Sprzedaż'!$A$5:$A$1004,"<="&D8)>0," · wierszy bez kursu NBP: "&COUNTIFS('Sprzedaż'!$F$5:$F$1004,"brak kursu",'Sprzedaż'!$A$5:$A$1004,">="&C8,'Sprzedaż'!$A$5:$A$1004,"<="&D8),"")
A9: 2027 | B9: I | C9: =DATE(A9,1,1) | D9: =EOMONTH(C9,2) | E9: =SUMIFS('Sprzedaż'!$F$5:$F$1004,'Sprzedaż'!$A$5:$A$1004,">="&C9,'Sprzedaż'!$A$5:$A$1004,"<="&D9) | F9: =IFERROR(VLOOKUP(A9,Limity!$A$5:$C$14,3,FALSE),"") | G9: =IF(ISNUMBER(F9),E9/F9,"") | H9: =IF(ISNUMBER(F9),F9-E9,"") | I9: =IF(ISNUMBER(G9),IF(G9>1,"Limit przekroczony",IF(G9>=1,"Limit wykorzystany (100%)",IF(G9>=0.95,"Co najmniej 95% limitu",IF(G9>=0.85,"Co najmniej 85% limitu",IF(G9>=0.7,"Co najmniej 70% limitu","W limicie"))))),"Wpisz płacę minimalną na ten rok w zakładce Limity")&IF(COUNTIFS('Sprzedaż'!$F$5:$F$1004,"brak kursu",'Sprzedaż'!$A$5:$A$1004,">="&C9,'Sprzedaż'!$A$5:$A$1004,"<="&D9)>0," · wierszy bez kursu NBP: "&COUNTIFS('Sprzedaż'!$F$5:$F$1004,"brak kursu",'Sprzedaż'!$A$5:$A$1004,">="&C9,'Sprzedaż'!$A$5:$A$1004,"<="&D9),"")
A10: 2027 | B10: II | C10: =DATE(A10,4,1) | D10: =EOMONTH(C10,2) | E10: =SUMIFS('Sprzedaż'!$F$5:$F$1004,'Sprzedaż'!$A$5:$A$1004,">="&C10,'Sprzedaż'!$A$5:$A$1004,"<="&D10) | F10: =IFERROR(VLOOKUP(A10,Limity!$A$5:$C$14,3,FALSE),"") | G10: =IF(ISNUMBER(F10),E10/F10,"") | H10: =IF(ISNUMBER(F10),F10-E10,"") | I10: =IF(ISNUMBER(G10),IF(G10>1,"Limit przekroczony",IF(G10>=1,"Limit wykorzystany (100%)",IF(G10>=0.95,"Co najmniej 95% limitu",IF(G10>=0.85,"Co najmniej 85% limitu",IF(G10>=0.7,"Co najmniej 70% limitu","W limicie"))))),"Wpisz płacę minimalną na ten rok w zakładce Limity")&IF(COUNTIFS('Sprzedaż'!$F$5:$F$1004,"brak kursu",'Sprzedaż'!$A$5:$A$1004,">="&C10,'Sprzedaż'!$A$5:$A$1004,"<="&D10)>0," · wierszy bez kursu NBP: "&COUNTIFS('Sprzedaż'!$F$5:$F$1004,"brak kursu",'Sprzedaż'!$A$5:$A$1004,">="&C10,'Sprzedaż'!$A$5:$A$1004,"<="&D10),"")
A11: 2027 | B11: III | C11: =DATE(A11,7,1) | D11: =EOMONTH(C11,2) | E11: =SUMIFS('Sprzedaż'!$F$5:$F$1004,'Sprzedaż'!$A$5:$A$1004,">="&C11,'Sprzedaż'!$A$5:$A$1004,"<="&D11) | F11: =IFERROR(VLOOKUP(A11,Limity!$A$5:$C$14,3,FALSE),"") | G11: =IF(ISNUMBER(F11),E11/F11,"") | H11: =IF(ISNUMBER(F11),F11-E11,"") | I11: =IF(ISNUMBER(G11),IF(G11>1,"Limit przekroczony",IF(G11>=1,"Limit wykorzystany (100%)",IF(G11>=0.95,"Co najmniej 95% limitu",IF(G11>=0.85,"Co najmniej 85% limitu",IF(G11>=0.7,"Co najmniej 70% limitu","W limicie"))))),"Wpisz płacę minimalną na ten rok w zakładce Limity")&IF(COUNTIFS('Sprzedaż'!$F$5:$F$1004,"brak kursu",'Sprzedaż'!$A$5:$A$1004,">="&C11,'Sprzedaż'!$A$5:$A$1004,"<="&D11)>0," · wierszy bez kursu NBP: "&COUNTIFS('Sprzedaż'!$F$5:$F$1004,"brak kursu",'Sprzedaż'!$A$5:$A$1004,">="&C11,'Sprzedaż'!$A$5:$A$1004,"<="&D11),"")
A12: 2027 | B12: IV | C12: =DATE(A12,10,1) | D12: =EOMONTH(C12,2) | E12: =SUMIFS('Sprzedaż'!$F$5:$F$1004,'Sprzedaż'!$A$5:$A$1004,">="&C12,'Sprzedaż'!$A$5:$A$1004,"<="&D12) | F12: =IFERROR(VLOOKUP(A12,Limity!$A$5:$C$14,3,FALSE),"") | G12: =IF(ISNUMBER(F12),E12/F12,"") | H12: =IF(ISNUMBER(F12),F12-E12,"") | I12: =IF(ISNUMBER(G12),IF(G12>1,"Limit przekroczony",IF(G12>=1,"Limit wykorzystany (100%)",IF(G12>=0.95,"Co najmniej 95% limitu",IF(G12>=0.85,"Co najmniej 85% limitu",IF(G12>=0.7,"Co najmniej 70% limitu","W limicie"))))),"Wpisz płacę minimalną na ten rok w zakładce Limity")&IF(COUNTIFS('Sprzedaż'!$F$5:$F$1004,"brak kursu",'Sprzedaż'!$A$5:$A$1004,">="&C12,'Sprzedaż'!$A$5:$A$1004,"<="&D12)>0," · wierszy bez kursu NBP: "&COUNTIFS('Sprzedaż'!$F$5:$F$1004,"brak kursu",'Sprzedaż'!$A$5:$A$1004,">="&C12,'Sprzedaż'!$A$5:$A$1004,"<="&D12),"")
A13: 2028 | B13: I | C13: =DATE(A13,1,1) | D13: =EOMONTH(C13,2) | E13: =SUMIFS('Sprzedaż'!$F$5:$F$1004,'Sprzedaż'!$A$5:$A$1004,">="&C13,'Sprzedaż'!$A$5:$A$1004,"<="&D13) | F13: =IFERROR(VLOOKUP(A13,Limity!$A$5:$C$14,3,FALSE),"") | G13: =IF(ISNUMBER(F13),E13/F13,"") | H13: =IF(ISNUMBER(F13),F13-E13,"") | I13: =IF(ISNUMBER(G13),IF(G13>1,"Limit przekroczony",IF(G13>=1,"Limit wykorzystany (100%)",IF(G13>=0.95,"Co najmniej 95% limitu",IF(G13>=0.85,"Co najmniej 85% limitu",IF(G13>=0.7,"Co najmniej 70% limitu","W limicie"))))),"Wpisz płacę minimalną na ten rok w zakładce Limity")&IF(COUNTIFS('Sprzedaż'!$F$5:$F$1004,"brak kursu",'Sprzedaż'!$A$5:$A$1004,">="&C13,'Sprzedaż'!$A$5:$A$1004,"<="&D13)>0," · wierszy bez kursu NBP: "&COUNTIFS('Sprzedaż'!$F$5:$F$1004,"brak kursu",'Sprzedaż'!$A$5:$A$1004,">="&C13,'Sprzedaż'!$A$5:$A$1004,"<="&D13),"")
A14: 2028 | B14: II | C14: =DATE(A14,4,1) | D14: =EOMONTH(C14,2) | E14: =SUMIFS('Sprzedaż'!$F$5:$F$1004,'Sprzedaż'!$A$5:$A$1004,">="&C14,'Sprzedaż'!$A$5:$A$1004,"<="&D14) | F14: =IFERROR(VLOOKUP(A14,Limity!$A$5:$C$14,3,FALSE),"") | G14: =IF(ISNUMBER(F14),E14/F14,"") | H14: =IF(ISNUMBER(F14),F14-E14,"") | I14: =IF(ISNUMBER(G14),IF(G14>1,"Limit przekroczony",IF(G14>=1,"Limit wykorzystany (100%)",IF(G14>=0.95,"Co najmniej 95% limitu",IF(G14>=0.85,"Co najmniej 85% limitu",IF(G14>=0.7,"Co najmniej 70% limitu","W limicie"))))),"Wpisz płacę minimalną na ten rok w zakładce Limity")&IF(COUNTIFS('Sprzedaż'!$F$5:$F$1004,"brak kursu",'Sprzedaż'!$A$5:$A$1004,">="&C14,'Sprzedaż'!$A$5:$A$1004,"<="&D14)>0," · wierszy bez kursu NBP: "&COUNTIFS('Sprzedaż'!$F$5:$F$1004,"brak kursu",'Sprzedaż'!$A$5:$A$1004,">="&C14,'Sprzedaż'!$A$5:$A$1004,"<="&D14),"")
A15: 2028 | B15: III | C15: =DATE(A15,7,1) | D15: =EOMONTH(C15,2) | E15: =SUMIFS('Sprzedaż'!$F$5:$F$1004,'Sprzedaż'!$A$5:$A$1004,">="&C15,'Sprzedaż'!$A$5:$A$1004,"<="&D15) | F15: =IFERROR(VLOOKUP(A15,Limity!$A$5:$C$14,3,FALSE),"") | G15: =IF(ISNUMBER(F15),E15/F15,"") | H15: =IF(ISNUMBER(F15),F15-E15,"") | I15: =IF(ISNUMBER(G15),IF(G15>1,"Limit przekroczony",IF(G15>=1,"Limit wykorzystany (100%)",IF(G15>=0.95,"Co najmniej 95% limitu",IF(G15>=0.85,"Co najmniej 85% limitu",IF(G15>=0.7,"Co najmniej 70% limitu","W limicie"))))),"Wpisz płacę minimalną na ten rok w zakładce Limity")&IF(COUNTIFS('Sprzedaż'!$F$5:$F$1004,"brak kursu",'Sprzedaż'!$A$5:$A$1004,">="&C15,'Sprzedaż'!$A$5:$A$1004,"<="&D15)>0," · wierszy bez kursu NBP: "&COUNTIFS('Sprzedaż'!$F$5:$F$1004,"brak kursu",'Sprzedaż'!$A$5:$A$1004,">="&C15,'Sprzedaż'!$A$5:$A$1004,"<="&D15),"")
A16: 2028 | B16: IV | C16: =DATE(A16,10,1) | D16: =EOMONTH(C16,2) | E16: =SUMIFS('Sprzedaż'!$F$5:$F$1004,'Sprzedaż'!$A$5:$A$1004,">="&C16,'Sprzedaż'!$A$5:$A$1004,"<="&D16) | F16: =IFERROR(VLOOKUP(A16,Limity!$A$5:$C$14,3,FALSE),"") | G16: =IF(ISNUMBER(F16),E16/F16,"") | H16: =IF(ISNUMBER(F16),F16-E16,"") | I16: =IF(ISNUMBER(G16),IF(G16>1,"Limit przekroczony",IF(G16>=1,"Limit wykorzystany (100%)",IF(G16>=0.95,"Co najmniej 95% limitu",IF(G16>=0.85,"Co najmniej 85% limitu",IF(G16>=0.7,"Co najmniej 70% limitu","W limicie"))))),"Wpisz płacę minimalną na ten rok w zakładce Limity")&IF(COUNTIFS('Sprzedaż'!$F$5:$F$1004,"brak kursu",'Sprzedaż'!$A$5:$A$1004,">="&C16,'Sprzedaż'!$A$5:$A$1004,"<="&D16)>0," · wierszy bez kursu NBP: "&COUNTIFS('Sprzedaż'!$F$5:$F$1004,"brak kursu",'Sprzedaż'!$A$5:$A$1004,">="&C16,'Sprzedaż'!$A$5:$A$1004,"<="&D16),"")

Sheet Limity
A1: Limit na kwartał = 225% minimalnego wynagrodzenia
A2: Podstawa: art. 5 ust. 1 ustawy z 6 marca 2018 r. – Prawo przedsiębiorców. Kwotę na kolejny rok wpisz w kolumnie B, gdy rząd ogłosi minimalne wynagrodzenie (zwykle we wrześniu).
A4: Rok | B4: Minimalne wynagrodzenie (zł) | C4: Limit na kwartał (zł) | D4: Źródło
A5: 2026 | B5: 4806 | C5: =IF(B5="","",ROUND(B5*2.25,2)) | D5: Dz.U. 2025 poz. 1242 (rozporządzenie Rady Ministrów z 11.09.2025)
A6: 2027 | B6: 4950 | C6: =IF(B6="","",ROUND(B6*2.25,2)) | D6: Dz.U. 2026 poz. 1213 (rozporządzenie Rady Ministrów z 14.09.2026)
A7: 2028 | C7: =IF(B7="","",ROUND(B7*2.25,2)) | D7: Wpisz po ogłoszeniu minimalnego wynagrodzenia
A8: 2029 | C8: =IF(B8="","",ROUND(B8*2.25,2)) | D8: Wpisz po ogłoszeniu minimalnego wynagrodzenia
A9: 2030 | C9: =IF(B9="","",ROUND(B9*2.25,2)) | D9: Wpisz po ogłoszeniu minimalnego wynagrodzenia
A10: 2031 | C10: =IF(B10="","",ROUND(B10*2.25,2)) | D10: Wpisz po ogłoszeniu minimalnego wynagrodzenia
A11: 2032 | C11: =IF(B11="","",ROUND(B11*2.25,2)) | D11: Wpisz po ogłoszeniu minimalnego wynagrodzenia
A12: 2033 | C12: =IF(B12="","",ROUND(B12*2.25,2)) | D12: Wpisz po ogłoszeniu minimalnego wynagrodzenia
A13: 2034 | C13: =IF(B13="","",ROUND(B13*2.25,2)) | D13: Wpisz po ogłoszeniu minimalnego wynagrodzenia
A14: 2035 | C14: =IF(B14="","",ROUND(B14*2.25,2)) | D14: Wpisz po ogłoszeniu minimalnego wynagrodzenia

Sheet Instrukcja
A1: Instrukcja
A3: Jak korzystać z arkusza
A4: 1. W zakładce „Sprzedaż” wpisz każdą sprzedaż w osobnym wierszu: datę, krótki opis, kwotę i walutę.
A5: 2. Sprzedaż w złotych: zostaw kolumnę „Kurs NBP” pustą. Sprzedaż w innej walucie: wpisz kurs NBP (niżej, jak go znaleźć).
A6: 3. Szare kolumny liczą się same: kwota w PLN, suma kwartału narastająco, procent limitu i ostrzeżenie.
A7: 4. Zwrot pieniędzy klientowi wpisz jako kwotę ujemną z datą zwrotu.
A8: 5. Zakładka „Podsumowanie” pokazuje każdy kwartał: przychód, limit, procent i ile zostało.
A10: Co znaczą kolory
A11: Żółty: co najmniej 70% limitu. Pomarańczowy: co najmniej 85%. Jasnoczerwony: co najmniej 95%.
A12: Czerwony: limit wykorzystany w 100% albo przekroczony.
A14: Jak znaleźć kurs średni NBP
A15: Przychód w walucie obcej przelicza się na złote po kursie średnim NBP z ostatniego dnia roboczego przed dniem uzyskania przychodu (art. 11a ust. 1 ustawy o PIT).
... A29: Eksperyment NobleCode, prowadzony z udziałem AI · Nie stanowi doradztwa podatkowego · kontakt@noblecode.pl
